Package: gaga Version: 2.48.0 Command: /home/biocbuild/bbs-3.18-bioc/R/bin/R CMD build --keep-empty-dirs --no-resave-data gaga StartedAt: 2024-04-15 17:09:13 -0400 (Mon, 15 Apr 2024) EndedAt: 2024-04-15 17:09:33 -0400 (Mon, 15 Apr 2024) EllapsedTime: 20.2 seconds RetCode: 0 Status: OK PackageFile: gaga_2.48.0.tar.gz PackageFileSize: 431.8 KiB