Package: gaga Version: 2.48.0 Command: /home/biocbuild/bbs-3.18-bioc/R/bin/R CMD check --install=check:gaga.install-out.txt --library=/home/biocbuild/bbs-3.18-bioc/R/site-library --timings gaga_2.48.0.tar.gz StartedAt: 2024-04-15 22:55:09 -0400 (Mon, 15 Apr 2024) EndedAt: 2024-04-15 22:56:13 -0400 (Mon, 15 Apr 2024) EllapsedTime: 63.7 seconds RetCode: 0 Status: OK CheckDir: gaga.Rcheck Warnings: 0