Package: gage Version: 2.52.0 Command: /home/biocbuild/R/R-4.3.1/bin/R CMD build --keep-empty-dirs --no-resave-data gage StartedAt: 2023-11-02 01:15:38 -0000 (Thu, 02 Nov 2023) EndedAt: 2023-11-02 01:18:35 -0000 (Thu, 02 Nov 2023) EllapsedTime: 176.2 seconds RetCode: 0 Status: OK PackageFile: gage_2.52.0.tar.gz PackageFileSize: 4.109 MiB