Package: gage Version: 2.52.0 Command: chmod a+r gage -R && F:\biocbuild\bbs-3.18-bioc\R\bin\R.exe CMD build --keep-empty-dirs --no-resave-data gage StartedAt: 2024-04-15 18:37:07 -0400 (Mon, 15 Apr 2024) EndedAt: 2024-04-15 18:39:57 -0400 (Mon, 15 Apr 2024) EllapsedTime: 170.7 seconds RetCode: 0 Status: OK PackageFile: gage_2.52.0.tar.gz PackageFileSize: 4.298 MiB