Package: garfield Version: 1.30.0 Command: /home/biocbuild/R/R-4.3.1/bin/R CMD build --keep-empty-dirs --no-resave-data garfield StartedAt: 2023-11-02 01:15:51 -0000 (Thu, 02 Nov 2023) EndedAt: 2023-11-02 01:16:07 -0000 (Thu, 02 Nov 2023) EllapsedTime: 16.0 seconds RetCode: 0 Status: OK PackageFile: garfield_1.30.0.tar.gz PackageFileSize: 300.8 KiB