Package: garfield Version: 1.30.0 Command: /Library/Frameworks/R.framework/Resources/bin/R CMD build --keep-empty-dirs --no-resave-data garfield StartedAt: 2024-03-03 16:46:59 -0500 (Sun, 03 Mar 2024) EndedAt: 2024-03-03 16:47:15 -0500 (Sun, 03 Mar 2024) EllapsedTime: 16.9 seconds RetCode: 0 Status: OK PackageFile: garfield_1.30.0.tar.gz PackageFileSize: 304.5 KiB