Package: garfield Version: 1.30.0 Command: /Library/Frameworks/R.framework/Resources/bin/R CMD check --install=check:garfield.install-out.txt --library=/Library/Frameworks/R.framework/Resources/library --no-vignettes --timings garfield_1.30.0.tar.gz StartedAt: 2024-03-03 20:42:24 -0500 (Sun, 03 Mar 2024) EndedAt: 2024-03-03 20:42:53 -0500 (Sun, 03 Mar 2024) EllapsedTime: 29.3 seconds RetCode: 0 Status: OK CheckDir: garfield.Rcheck Warnings: 0