Package: gcapc Version: 1.26.0 Command: /home/biocbuild/R/R-4.3.1/bin/R CMD check --install=check:gcapc.install-out.txt --library=/home/biocbuild/R/R-4.3.1/site-library --no-vignettes --timings gcapc_1.26.0.tar.gz StartedAt: 2023-11-02 10:40:29 -0000 (Thu, 02 Nov 2023) EndedAt: 2023-11-02 10:49:35 -0000 (Thu, 02 Nov 2023) EllapsedTime: 545.7 seconds RetCode: 0 Status: OK CheckDir: gcapc.Rcheck Warnings: 0