Package: gcapc Version: 1.26.0 Command: /Library/Frameworks/R.framework/Resources/bin/R CMD build --keep-empty-dirs --no-resave-data gcapc StartedAt: 2024-03-03 16:47:27 -0500 (Sun, 03 Mar 2024) EndedAt: 2024-03-03 16:51:30 -0500 (Sun, 03 Mar 2024) EllapsedTime: 242.8 seconds RetCode: 0 Status: OK PackageFile: gcapc_1.26.0.tar.gz PackageFileSize: 3.773 MiB