Package: gcapc Version: 1.26.0 Command: /Library/Frameworks/R.framework/Resources/bin/R CMD check --install=check:gcapc.install-out.txt --library=/Library/Frameworks/R.framework/Resources/library --no-vignettes --timings gcapc_1.26.0.tar.gz StartedAt: 2024-03-03 20:43:12 -0500 (Sun, 03 Mar 2024) EndedAt: 2024-03-03 20:50:44 -0500 (Sun, 03 Mar 2024) EllapsedTime: 451.9 seconds RetCode: 0 Status: OK CheckDir: gcapc.Rcheck Warnings: 0