Package: gcapc Version: 1.26.0 Command: /home/biocbuild/bbs-3.18-bioc/R/bin/R CMD build --keep-empty-dirs --no-resave-data gcapc StartedAt: 2024-04-15 17:09:46 -0400 (Mon, 15 Apr 2024) EndedAt: 2024-04-15 17:13:18 -0400 (Mon, 15 Apr 2024) EllapsedTime: 211.5 seconds RetCode: 0 Status: OK PackageFile: gcapc_1.26.0.tar.gz PackageFileSize: 3.763 MiB