Package: gcapc Version: 1.26.0 Command: rm -rf gcapc.buildbin-libdir && mkdir gcapc.buildbin-libdir && F:\biocbuild\bbs-3.18-bioc\R\bin\R.exe CMD INSTALL --build --library=gcapc.buildbin-libdir gcapc_1.26.0.tar.gz StartedAt: 2024-04-16 07:02:26 -0400 (Tue, 16 Apr 2024) EndedAt: 2024-04-16 07:03:08 -0400 (Tue, 16 Apr 2024) EllapsedTime: 42.2 seconds RetCode: 0 Status: OK PackageFile: gcapc_1.26.0.zip PackageFileSize: 3.682 MiB