Package: gcapc Version: 1.26.0 Command: chmod a+r gcapc -R && F:\biocbuild\bbs-3.18-bioc\R\bin\R.exe CMD build --keep-empty-dirs --no-resave-data gcapc StartedAt: 2024-04-15 18:38:01 -0400 (Mon, 15 Apr 2024) EndedAt: 2024-04-15 18:42:47 -0400 (Mon, 15 Apr 2024) EllapsedTime: 285.6 seconds RetCode: 0 Status: OK PackageFile: gcapc_1.26.0.tar.gz PackageFileSize: 3.603 MiB