Package: gcatest Version: 2.2.0 Command: /home/biocbuild/R/R-4.3.1/bin/R CMD build --keep-empty-dirs --no-resave-data gcatest StartedAt: 2023-11-02 01:16:38 -0000 (Thu, 02 Nov 2023) EndedAt: 2023-11-02 01:17:08 -0000 (Thu, 02 Nov 2023) EllapsedTime: 29.0 seconds RetCode: 0 Status: OK PackageFile: gcatest_2.2.0.tar.gz PackageFileSize: 2.143 MiB