Package: gcatest Version: 2.2.0 Command: /Library/Frameworks/R.framework/Resources/bin/R CMD INSTALL gcatest StartedAt: 2024-04-15 15:08:06 -0400 (Mon, 15 Apr 2024) EndedAt: 2024-04-15 15:08:34 -0400 (Mon, 15 Apr 2024) EllapsedTime: 27.7 seconds RetCode: 0 Status: OK