Package: gcatest Version: 2.2.0 Command: F:\biocbuild\bbs-3.18-bioc\R\bin\R.exe CMD INSTALL gcatest StartedAt: 2024-04-15 15:39:41 -0400 (Mon, 15 Apr 2024) EndedAt: 2024-04-15 15:40:01 -0400 (Mon, 15 Apr 2024) EllapsedTime: 20.1 seconds RetCode: 0 Status: OK