Package: gemma.R Version: 2.0.0 Maintainer: Ogan Mancarci MaintainerEmail: ogan.mancarci at gmail.com git_url: https://git.bioconductor.org/packages/gemma.R git_branch: RELEASE_3_18 git_last_commit: 1f19014 git_last_commit_date: 2023-10-24 11:44:18 -0400 (Tue, 24 Oct 2023)