Package: gemma.R Version: 2.0.0 Command: rm -rf gemma.R.buildbin-libdir && mkdir gemma.R.buildbin-libdir && /Users/biocbuild/BBS/utils/build-universal.sh gemma.R_2.0.0.tar.gz /Library/Frameworks/R.framework/Resources/bin/R gemma.R.buildbin-libdir StartedAt: 2024-01-17 01:46:44 -0500 (Wed, 17 Jan 2024) EndedAt: 2024-01-17 01:46:54 -0500 (Wed, 17 Jan 2024) EllapsedTime: 10.2 seconds RetCode: 0 Status: OK PackageFile: gemma.R_2.0.0.tgz PackageFileSize: 1.511 MiB