Package: gemma.R Version: 2.0.0 Command: chmod a+r gemma.R -R && F:\biocbuild\bbs-3.18-bioc\R\bin\R.exe CMD build --keep-empty-dirs --no-resave-data gemma.R StartedAt: 2024-04-15 18:39:49 -0400 (Mon, 15 Apr 2024) EndedAt: 2024-04-15 18:49:00 -0400 (Mon, 15 Apr 2024) EllapsedTime: 550.4 seconds RetCode: 1 Status: ERROR PackageFile: None PackageFileSize: NA