Package: gemma.R Version: 2.0.0 Command: F:\biocbuild\bbs-3.18-bioc\R\bin\R.exe CMD INSTALL gemma.R StartedAt: 2024-04-15 15:52:03 -0400 (Mon, 15 Apr 2024) EndedAt: 2024-04-15 15:52:14 -0400 (Mon, 15 Apr 2024) EllapsedTime: 11.5 seconds RetCode: 0 Status: OK