Package: genbankr Version: 1.30.0 Command: /home/biocbuild/bbs-3.18-bioc/R/bin/R CMD build --keep-empty-dirs --no-resave-data genbankr StartedAt: 2024-04-15 17:11:31 -0400 (Mon, 15 Apr 2024) EndedAt: 2024-04-15 17:12:34 -0400 (Mon, 15 Apr 2024) EllapsedTime: 62.7 seconds RetCode: 1 Status: ERROR PackageFile: None PackageFileSize: NA