Package: geneClassifiers Version: 1.26.0 Command: rm -rf geneClassifiers.buildbin-libdir && mkdir geneClassifiers.buildbin-libdir && /Users/biocbuild/BBS/utils/build-universal.sh geneClassifiers_1.26.0.tar.gz /Library/Frameworks/R.framework/Resources/bin/R geneClassifiers.buildbin-libdir StartedAt: 2024-03-04 00:42:32 -0500 (Mon, 04 Mar 2024) EndedAt: 2024-03-04 00:42:44 -0500 (Mon, 04 Mar 2024) EllapsedTime: 11.1 seconds RetCode: 0 Status: OK PackageFile: geneClassifiers_1.26.0.tgz PackageFileSize: 1.883 MiB