Package: geneRecommender Version: 1.74.0 Command: /Library/Frameworks/R.framework/Resources/bin/R CMD build --keep-empty-dirs --no-resave-data geneRecommender StartedAt: 2024-03-03 16:49:29 -0500 (Sun, 03 Mar 2024) EndedAt: 2024-03-03 16:49:39 -0500 (Sun, 03 Mar 2024) EllapsedTime: 10.1 seconds RetCode: 0 Status: OK PackageFile: geneRecommender_1.74.0.tar.gz PackageFileSize: 239.1 KiB