Package: geneRxCluster Version: 1.38.0 Command: /Library/Frameworks/R.framework/Resources/bin/R CMD INSTALL geneRxCluster StartedAt: 2024-03-03 15:08:28 -0500 (Sun, 03 Mar 2024) EndedAt: 2024-03-03 15:08:46 -0500 (Sun, 03 Mar 2024) EllapsedTime: 18.3 seconds RetCode: 0 Status: OK