Package: geneRxCluster Version: 1.38.0 Command: /Library/Frameworks/R.framework/Resources/bin/R CMD build --keep-empty-dirs --no-resave-data geneRxCluster StartedAt: 2024-04-15 18:53:19 -0400 (Mon, 15 Apr 2024) EndedAt: 2024-04-15 18:54:36 -0400 (Mon, 15 Apr 2024) EllapsedTime: 77.1 seconds RetCode: 0 Status: OK PackageFile: geneRxCluster_1.38.0.tar.gz PackageFileSize: 280.4 KiB