Package: geneRxCluster Version: 1.38.0 Command: chmod a+r geneRxCluster -R && F:\biocbuild\bbs-3.18-bioc\R\bin\R.exe CMD build --keep-empty-dirs --no-resave-data geneRxCluster StartedAt: 2024-04-15 18:41:10 -0400 (Mon, 15 Apr 2024) EndedAt: 2024-04-15 18:41:56 -0400 (Mon, 15 Apr 2024) EllapsedTime: 46.4 seconds RetCode: 0 Status: OK PackageFile: geneRxCluster_1.38.0.tar.gz PackageFileSize: 143 KiB