Package: geneXtendeR Version: 1.28.0 Command: /home/biocbuild/R/R-4.3.1/bin/R CMD build --keep-empty-dirs --no-resave-data geneXtendeR StartedAt: 2023-11-02 01:24:30 -0000 (Thu, 02 Nov 2023) EndedAt: 2023-11-02 01:24:33 -0000 (Thu, 02 Nov 2023) EllapsedTime: 3.0 seconds RetCode: 0 Status: OK PackageFile: geneXtendeR_1.28.0.tar.gz PackageFileSize: 11.74 MiB