Package: geneXtendeR Version: 1.28.0 Command: /Library/Frameworks/R.framework/Resources/bin/R CMD check --install=check:geneXtendeR.install-out.txt --library=/Library/Frameworks/R.framework/Resources/library --no-vignettes --timings geneXtendeR_1.28.0.tar.gz StartedAt: 2024-03-03 20:47:58 -0500 (Sun, 03 Mar 2024) EndedAt: 2024-03-03 21:01:19 -0500 (Sun, 03 Mar 2024) EllapsedTime: 801.2 seconds RetCode: 0 Status: WARNINGS CheckDir: geneXtendeR.Rcheck Warnings: 1