Package: geneXtendeR Version: 1.28.0 Command: /Library/Frameworks/R.framework/Resources/bin/R CMD build --keep-empty-dirs --no-resave-data geneXtendeR StartedAt: 2024-04-15 18:54:04 -0400 (Mon, 15 Apr 2024) EndedAt: 2024-04-15 18:54:11 -0400 (Mon, 15 Apr 2024) EllapsedTime: 6.6 seconds RetCode: 0 Status: OK PackageFile: geneXtendeR_1.28.0.tar.gz PackageFileSize: 11.74 MiB