Package: geneXtendeR Version: 1.28.0 Command: /Library/Frameworks/R.framework/Resources/bin/R CMD check --install=check:geneXtendeR.install-out.txt --library=/Library/Frameworks/R.framework/Resources/library --no-vignettes --timings geneXtendeR_1.28.0.tar.gz StartedAt: 2024-04-16 03:13:02 -0400 (Tue, 16 Apr 2024) EndedAt: 2024-04-16 03:34:55 -0400 (Tue, 16 Apr 2024) EllapsedTime: 1312.9 seconds RetCode: 0 Status: WARNINGS CheckDir: geneXtendeR.Rcheck Warnings: 1