Package: genefu Version: 2.34.0 Command: /Library/Frameworks/R.framework/Resources/bin/R CMD build --keep-empty-dirs --no-resave-data genefu StartedAt: 2024-03-03 16:49:01 -0500 (Sun, 03 Mar 2024) EndedAt: 2024-03-03 16:50:30 -0500 (Sun, 03 Mar 2024) EllapsedTime: 89.2 seconds RetCode: 0 Status: OK PackageFile: genefu_2.34.0.tar.gz PackageFileSize: 4.868 MiB