Package: genefu Version: 2.34.0 Command: F:\biocbuild\bbs-3.18-bioc\R\bin\R.exe CMD check --no-multiarch --install=check:genefu.install-out.txt --library=F:\biocbuild\bbs-3.18-bioc\R\library --no-vignettes --timings genefu_2.34.0.tar.gz StartedAt: 2024-04-16 01:02:57 -0400 (Tue, 16 Apr 2024) EndedAt: 2024-04-16 01:05:38 -0400 (Tue, 16 Apr 2024) EllapsedTime: 161.0 seconds RetCode: 0 Status: WARNINGS CheckDir: genefu.Rcheck Warnings: 1