Package: geneplast Version: 1.28.0 Maintainer: Mauro Castro MaintainerEmail: mauro.a.castro at gmail.com git_url: https://git.bioconductor.org/packages/geneplast git_branch: RELEASE_3_18 git_last_commit: f63a5a9 git_last_commit_date: 2023-10-24 10:50:48 -0400 (Tue, 24 Oct 2023)