Package: geneplast Version: 1.28.0 Command: /home/biocbuild/R/R-4.3.1/bin/R CMD build --keep-empty-dirs --no-resave-data geneplast StartedAt: 2023-11-02 01:23:09 -0000 (Thu, 02 Nov 2023) EndedAt: 2023-11-02 01:23:49 -0000 (Thu, 02 Nov 2023) EllapsedTime: 40.1 seconds RetCode: 0 Status: OK PackageFile: geneplast_1.28.0.tar.gz PackageFileSize: 7.121 MiB