Package: geneplast Version: 1.28.0 Command: /Library/Frameworks/R.framework/Resources/bin/R CMD check --install=check:geneplast.install-out.txt --library=/Library/Frameworks/R.framework/Resources/library --no-vignettes --timings geneplast_1.28.0.tar.gz StartedAt: 2024-04-16 03:09:58 -0400 (Tue, 16 Apr 2024) EndedAt: 2024-04-16 03:11:29 -0400 (Tue, 16 Apr 2024) EllapsedTime: 91.0 seconds RetCode: 0 Status: OK CheckDir: geneplast.Rcheck Warnings: 0