Package: geneplast Version: 1.28.0 Command: /home/biocbuild/bbs-3.18-bioc/R/bin/R CMD check --install=check:geneplast.install-out.txt --library=/home/biocbuild/bbs-3.18-bioc/R/site-library --timings geneplast_1.28.0.tar.gz StartedAt: 2024-04-15 23:03:20 -0400 (Mon, 15 Apr 2024) EndedAt: 2024-04-15 23:04:29 -0400 (Mon, 15 Apr 2024) EllapsedTime: 68.6 seconds RetCode: 0 Status: OK CheckDir: geneplast.Rcheck Warnings: 0