Package: genoCN Version: 1.54.0 Command: /home/biocbuild/bbs-3.18-bioc/R/bin/R CMD build --keep-empty-dirs --no-resave-data genoCN StartedAt: 2024-04-15 17:13:08 -0400 (Mon, 15 Apr 2024) EndedAt: 2024-04-15 17:13:18 -0400 (Mon, 15 Apr 2024) EllapsedTime: 10.5 seconds RetCode: 0 Status: OK PackageFile: genoCN_1.54.0.tar.gz PackageFileSize: 1.024 MiB