Package: genomation Version: 1.34.0 Command: /Library/Frameworks/R.framework/Resources/bin/R CMD INSTALL genomation StartedAt: 2024-03-03 15:18:05 -0500 (Sun, 03 Mar 2024) EndedAt: 2024-03-03 15:19:14 -0500 (Sun, 03 Mar 2024) EllapsedTime: 68.8 seconds RetCode: 0 Status: OK