Package: genomation Version: 1.34.0 Command: /Library/Frameworks/R.framework/Resources/bin/R CMD INSTALL genomation StartedAt: 2024-04-15 15:33:49 -0400 (Mon, 15 Apr 2024) EndedAt: 2024-04-15 15:35:52 -0400 (Mon, 15 Apr 2024) EllapsedTime: 123.5 seconds RetCode: 0 Status: OK