Package: genomation Version: 1.34.0 Command: rm -rf genomation.buildbin-libdir && mkdir genomation.buildbin-libdir && F:\biocbuild\bbs-3.18-bioc\R\bin\R.exe CMD INSTALL --build --library=genomation.buildbin-libdir genomation_1.34.0.tar.gz StartedAt: 2024-04-16 07:03:43 -0400 (Tue, 16 Apr 2024) EndedAt: 2024-04-16 07:05:05 -0400 (Tue, 16 Apr 2024) EllapsedTime: 82.8 seconds RetCode: 0 Status: OK PackageFile: genomation_1.34.0.zip PackageFileSize: 3.334 MiB