Package: getDEE2 Version: 1.12.0 Command: /Library/Frameworks/R.framework/Resources/bin/R CMD INSTALL getDEE2 StartedAt: 2024-04-15 15:16:54 -0400 (Mon, 15 Apr 2024) EndedAt: 2024-04-15 15:17:38 -0400 (Mon, 15 Apr 2024) EllapsedTime: 43.6 seconds RetCode: 0 Status: OK