Package: getDEE2 Version: 1.12.0 Command: chmod a+r getDEE2 -R && F:\biocbuild\bbs-3.18-bioc\R\bin\R.exe CMD build --keep-empty-dirs --no-resave-data getDEE2 StartedAt: 2024-04-15 18:45:47 -0400 (Mon, 15 Apr 2024) EndedAt: 2024-04-15 18:47:01 -0400 (Mon, 15 Apr 2024) EllapsedTime: 73.9 seconds RetCode: 0 Status: OK PackageFile: getDEE2_1.12.0.tar.gz PackageFileSize: 21.73 KiB