Package: geva Version: 1.10.0 Command: /home/biocbuild/R/R-4.3.1/bin/R CMD INSTALL geva StartedAt: 2023-11-01 20:07:01 -0000 (Wed, 01 Nov 2023) EndedAt: 2023-11-01 20:07:24 -0000 (Wed, 01 Nov 2023) EllapsedTime: 22.9 seconds RetCode: 0 Status: OK