Package: ggmanh Version: 1.6.0 Command: /Library/Frameworks/R.framework/Resources/bin/R CMD build --keep-empty-dirs --no-resave-data ggmanh StartedAt: 2024-04-15 18:59:43 -0400 (Mon, 15 Apr 2024) EndedAt: 2024-04-15 19:00:58 -0400 (Mon, 15 Apr 2024) EllapsedTime: 74.9 seconds RetCode: 0 Status: OK PackageFile: ggmanh_1.6.0.tar.gz PackageFileSize: 4.187 MiB