Package: ggmanh Version: 1.6.0 Command: /Library/Frameworks/R.framework/Resources/bin/R CMD check --install=check:ggmanh.install-out.txt --library=/Library/Frameworks/R.framework/Resources/library --no-vignettes --timings ggmanh_1.6.0.tar.gz StartedAt: 2024-04-16 03:26:24 -0400 (Tue, 16 Apr 2024) EndedAt: 2024-04-16 03:27:55 -0400 (Tue, 16 Apr 2024) EllapsedTime: 91.5 seconds RetCode: 0 Status: WARNINGS CheckDir: ggmanh.Rcheck Warnings: 1