Package: ggmanh Version: 1.6.0 Command: /home/biocbuild/bbs-3.18-bioc/R/bin/R CMD INSTALL ggmanh StartedAt: 2024-04-15 15:14:46 -0400 (Mon, 15 Apr 2024) EndedAt: 2024-04-15 15:14:50 -0400 (Mon, 15 Apr 2024) EllapsedTime: 3.8 seconds RetCode: 0 Status: OK