Package: ggmsa Version: 1.8.0 Command: rm -rf ggmsa.buildbin-libdir && mkdir ggmsa.buildbin-libdir && F:\biocbuild\bbs-3.18-bioc\R\bin\R.exe CMD INSTALL --build --library=ggmsa.buildbin-libdir ggmsa_1.8.0.tar.gz StartedAt: 2024-04-16 07:05:09 -0400 (Tue, 16 Apr 2024) EndedAt: 2024-04-16 07:05:36 -0400 (Tue, 16 Apr 2024) EllapsedTime: 27.3 seconds RetCode: 0 Status: OK PackageFile: ggmsa_1.8.0.zip PackageFileSize: 2.487 MiB