Package: ggmsa Version: 1.8.0 Command: chmod a+r ggmsa -R && F:\biocbuild\bbs-3.18-bioc\R\bin\R.exe CMD build --keep-empty-dirs --no-resave-data ggmsa StartedAt: 2024-04-15 18:46:46 -0400 (Mon, 15 Apr 2024) EndedAt: 2024-04-15 18:48:06 -0400 (Mon, 15 Apr 2024) EllapsedTime: 80.2 seconds RetCode: 0 Status: OK PackageFile: ggmsa_1.8.0.tar.gz PackageFileSize: 3.359 MiB