Package: goProfiles Version: 1.64.0 Command: /Library/Frameworks/R.framework/Resources/bin/R CMD INSTALL goProfiles StartedAt: 2024-03-03 15:23:02 -0500 (Sun, 03 Mar 2024) EndedAt: 2024-03-03 15:23:24 -0500 (Sun, 03 Mar 2024) EllapsedTime: 22.5 seconds RetCode: 0 Status: OK