Package: graper Version: 1.18.0 Command: /Library/Frameworks/R.framework/Resources/bin/R CMD INSTALL graper StartedAt: 2024-04-15 15:18:27 -0400 (Mon, 15 Apr 2024) EndedAt: 2024-04-15 15:19:39 -0400 (Mon, 15 Apr 2024) EllapsedTime: 72.9 seconds RetCode: 0 Status: OK